BEGIN:VCALENDAR
VERSION:2.0
PRODID:-//Bearspaw Christian School - ECPv6.15.20//NONSGML v1.0//EN
CALSCALE:GREGORIAN
METHOD:PUBLISH
X-ORIGINAL-URL:https://bearspawschool.com
X-WR-CALDESC:Events for Bearspaw Christian School
REFRESH-INTERVAL;VALUE=DURATION:PT1H
X-Robots-Tag:noindex
X-PUBLISHED-TTL:PT1H
BEGIN:VTIMEZONE
TZID:America/Edmonton
BEGIN:DAYLIGHT
TZOFFSETFROM:-0700
TZOFFSETTO:-0600
TZNAME:MDT
DTSTART:20170312T090000
END:DAYLIGHT
BEGIN:STANDARD
TZOFFSETFROM:-0600
TZOFFSETTO:-0700
TZNAME:MST
DTSTART:20171105T080000
END:STANDARD
BEGIN:DAYLIGHT
TZOFFSETFROM:-0700
TZOFFSETTO:-0600
TZNAME:MDT
DTSTART:20180311T090000
END:DAYLIGHT
BEGIN:STANDARD
TZOFFSETFROM:-0600
TZOFFSETTO:-0700
TZNAME:MST
DTSTART:20181104T080000
END:STANDARD
BEGIN:DAYLIGHT
TZOFFSETFROM:-0700
TZOFFSETTO:-0600
TZNAME:MDT
DTSTART:20190310T090000
END:DAYLIGHT
BEGIN:STANDARD
TZOFFSETFROM:-0600
TZOFFSETTO:-0700
TZNAME:MST
DTSTART:20191103T080000
END:STANDARD
BEGIN:DAYLIGHT
TZOFFSETFROM:-0700
TZOFFSETTO:-0600
TZNAME:MDT
DTSTART:20200308T090000
END:DAYLIGHT
BEGIN:STANDARD
TZOFFSETFROM:-0600
TZOFFSETTO:-0700
TZNAME:MST
DTSTART:20201101T080000
END:STANDARD
BEGIN:DAYLIGHT
TZOFFSETFROM:-0700
TZOFFSETTO:-0600
TZNAME:MDT
DTSTART:20210314T090000
END:DAYLIGHT
BEGIN:STANDARD
TZOFFSETFROM:-0600
TZOFFSETTO:-0700
TZNAME:MST
DTSTART:20211107T080000
END:STANDARD
END:VTIMEZONE
BEGIN:VEVENT
DTSTART;TZID=America/Edmonton:20200307T180000
DTEND;TZID=America/Edmonton:20200307T220000
DTSTAMP:20260424T210513
CREATED:20170908T154447Z
LAST-MODIFIED:20191213T005056Z
UID:5554-1583604000-1583618400@bearspawschool.com
SUMMARY:Winter Ball
DESCRIPTION:The annual Winter Ball for Senior High students is on Saturday\, March 7\, 2020\, from 6:00pm to 10:00pm. We are working diligently to make this event a success! There are no costs associated with the Winter Ball as the $45 fee was included in your school fees. The theme (Evening in Asia)\, meal\, and activities are sure to engage our students. Should your child wish to invite a guest\, they will need to purchase a ticket ($45) for their guest. RSVP deadline for guests is Wednesday\, March 4th\, 2020.  \nAdditional Details
URL:https://bearspawschool.com/event/winter-ball/
LOCATION:Mross Gymnasium
CATEGORIES:Secondary,Special Events
END:VEVENT
BEGIN:VEVENT
DTSTART;TZID=America/Edmonton:20181208T190000
DTEND;TZID=America/Edmonton:20181208T220000
DTSTAMP:20260424T210513
CREATED:20181208T163728Z
LAST-MODIFIED:20180605T040152Z
UID:5546-1544295600-1544306400@bearspawschool.com
SUMMARY:Bearspaw Barbell Father-Son Night
DESCRIPTION:
URL:https://bearspawschool.com/event/bearspaw-barbell-father-son-night/
LOCATION:MPF
CATEGORIES:Secondary,Special Events
END:VEVENT
BEGIN:VEVENT
DTSTART;TZID=America/Edmonton:20180321T083000
DTEND;TZID=America/Edmonton:20180321T093000
DTSTAMP:20260424T210513
CREATED:20170908T154809Z
LAST-MODIFIED:20170908T154809Z
UID:5558-1521621000-1521624600@bearspawschool.com
SUMMARY:Guatemala Commissioning Chapel
DESCRIPTION:
URL:https://bearspawschool.com/event/guatemala-commissioning-chapel/
LOCATION:Mross Gymnasium
CATEGORIES:Discipleship,Secondary,Special Events
END:VEVENT
END:VCALENDAR