BEGIN:VCALENDAR
VERSION:2.0
PRODID:-//Bearspaw Christian School - ECPv6.15.20//NONSGML v1.0//EN
CALSCALE:GREGORIAN
METHOD:PUBLISH
X-WR-CALNAME:Bearspaw Christian School
X-ORIGINAL-URL:https://bearspawschool.com
X-WR-CALDESC:Events for Bearspaw Christian School
REFRESH-INTERVAL;VALUE=DURATION:PT1H
X-Robots-Tag:noindex
X-PUBLISHED-TTL:PT1H
BEGIN:VTIMEZONE
TZID:America/Edmonton
BEGIN:DAYLIGHT
TZOFFSETFROM:-0700
TZOFFSETTO:-0600
TZNAME:MDT
DTSTART:20190310T090000
END:DAYLIGHT
BEGIN:STANDARD
TZOFFSETFROM:-0600
TZOFFSETTO:-0700
TZNAME:MST
DTSTART:20191103T080000
END:STANDARD
BEGIN:DAYLIGHT
TZOFFSETFROM:-0700
TZOFFSETTO:-0600
TZNAME:MDT
DTSTART:20200308T090000
END:DAYLIGHT
BEGIN:STANDARD
TZOFFSETFROM:-0600
TZOFFSETTO:-0700
TZNAME:MST
DTSTART:20201101T080000
END:STANDARD
BEGIN:DAYLIGHT
TZOFFSETFROM:-0700
TZOFFSETTO:-0600
TZNAME:MDT
DTSTART:20210314T090000
END:DAYLIGHT
BEGIN:STANDARD
TZOFFSETFROM:-0600
TZOFFSETTO:-0700
TZNAME:MST
DTSTART:20211107T080000
END:STANDARD
END:VTIMEZONE
BEGIN:VEVENT
DTSTART;TZID=America/Edmonton:20200221T133000
DTEND;TZID=America/Edmonton:20200221T150000
DTSTAMP:20260424T211234
CREATED:20170908T153842Z
LAST-MODIFIED:20191212T224856Z
UID:5549-1582291800-1582297200@bearspawschool.com
SUMMARY:Cultural Fair
DESCRIPTION:The BCS Second Annual School-Wide Cultural Fair will be held on Friday\, February 23rd from 1:30 – 3:00pm in the Mross Gym. Join us as we celebrate the diverse and rich culture we have at Bearspaw. \nDo you have art\, food\, music or dance to share with us? We’d love to encourage your participation.  If you or a family member are interested in participating we’d love to hear from you. Please email Carmaine Hall at chall@bearspawschool.com or Suzanne Hatch at shatch@bearspawschool.com.
URL:https://bearspawschool.com/event/cultural-fair/
CATEGORIES:Elementary & Secondary,Special Events,Student Council
END:VEVENT
END:VCALENDAR